BEGIN:VCALENDAR
VERSION:2.0
PRODID:Events Booking
BEGIN:VEVENT
UID:69e734c2990c2
SUMMARY:Gospelchor Lichtblick
DESCRIPTION:Chorprobe.
LOCATION:Schulstraße 11\, 79774 Albbruck\, Deutschland
DTSTART:20250505T173000Z
DTEND:20250505T183000Z
DTSTAMP:20260421T082642Z
ORGANIZER;CN=Evangelische Kirchengemeinde Albbruck-Görwihl:MAILTO:info@evk
 g-albbruck.de
GEO:47.594041;8.131956
X-APPLE-STRUCTURED-LOCATION;VALUE=URI;X-ADDRESS=Schulstraße 11\, 79774 Alb
 bruck\, Deutschland;X-APPLE-RADIUS=72;X-TITLE=Evangelisches Gemeindehaus A
 lbbruck:47.594041;8.131956
END:VEVENT
END:VCALENDAR