BEGIN:VCALENDAR
VERSION:2.0
PRODID:Events Booking
BEGIN:VEVENT
UID:69e7af064aeb0
SUMMARY:Ökumenischer Weltgebetstag der Frauen\, Albbruck
DESCRIPTION:
LOCATION:Schulstraße 11\, 79774 Albbruck\, Deutschland
DTSTART:20250307T173000Z
DTEND:20250307T200000Z
DTSTAMP:20260421T170822Z
ORGANIZER;CN=Evangelische Kirchengemeinde Albbruck-Görwihl:MAILTO:info@evk
 g-albbruck.de
GEO:47.594041;8.131956
X-APPLE-STRUCTURED-LOCATION;VALUE=URI;X-ADDRESS=Schulstraße 11\, 79774 Alb
 bruck\, Deutschland;X-APPLE-RADIUS=72;X-TITLE=Evangelisches Gemeindehaus A
 lbbruck:47.594041;8.131956
END:VEVENT
END:VCALENDAR