BEGIN:VCALENDAR
VERSION:2.0
PRODID:Events Booking
BEGIN:VEVENT
UID:69e77bee101f2
SUMMARY:Gottesdienst\, Dogern
DESCRIPTION:Pfarrer Bopp-Hartwig
LOCATION:Weinbergstraße 1\, 79804 Dogern\, Deutschland
DTSTART:20250106T090000Z
DTEND:20250106T094500Z
DTSTAMP:20260421T133022Z
ORGANIZER;CN=Evangelische Kirchengemeinde Albbruck-Görwihl:MAILTO:info@evk
 g-albbruck.de
GEO:47.61057;8.168283
X-APPLE-STRUCTURED-LOCATION;VALUE=URI;X-ADDRESS=Weinbergstraße 1\, 79804 D
 ogern\, Deutschland;X-APPLE-RADIUS=72;X-TITLE=Evang. Kirche Dogern:47.6105
 7;8.168283
END:VEVENT
END:VCALENDAR