BEGIN:VCALENDAR
VERSION:2.0
PRODID:Events Booking
BEGIN:VEVENT
UID:69e77bf5cadc8
SUMMARY:Gottesdienst\, Dogern
DESCRIPTION:Abendmahl\; Pfarrerin Otte-Kempf
LOCATION:Weinbergstraße 1\, 79804 Dogern\, Deutschland
DTSTART:20250209T080000Z
DTEND:20250209T084500Z
DTSTAMP:20260421T133029Z
ORGANIZER;CN=Evangelische Kirchengemeinde Albbruck-Görwihl:MAILTO:info@evk
 g-albbruck.de
GEO:47.61057;8.168283
X-APPLE-STRUCTURED-LOCATION;VALUE=URI;X-ADDRESS=Weinbergstraße 1\, 79804 D
 ogern\, Deutschland;X-APPLE-RADIUS=72;X-TITLE=Evang. Kirche Dogern:47.6105
 7;8.168283
END:VEVENT
END:VCALENDAR