BEGIN:VCALENDAR
VERSION:2.0
PRODID:Events Booking
BEGIN:VEVENT
UID:69ebd72873e75
SUMMARY:Ökumenische Narrenmesse\, Laufenburg\, Schweiz
DESCRIPTION:Pfarrerin R. Born
LOCATION:Schlossbergsteig 197\, Laufenburg\, 5080 Aargau\, Schweiz
DTSTART:20250302T091000Z
DTEND:20250302T100000Z
DTSTAMP:20260424T204840Z
ORGANIZER;CN=Evangelische Kirchengemeinde Albbruck-Görwihl:MAILTO:info@evk
 g-albbruck.de
GEO:47.56229;8.061626
X-APPLE-STRUCTURED-LOCATION;VALUE=URI;X-ADDRESS=Schlossbergsteig 197\, Lauf
 enburg\, 5080 Aargau\, Schweiz;X-APPLE-RADIUS=72;X-TITLE=Katholische Kirch
 e Laufenburg\, Schweiz:47.56229;8.061626
END:VEVENT
END:VCALENDAR