BEGIN:VCALENDAR
VERSION:2.0
PRODID:Events Booking
BEGIN:VEVENT
UID:69e77dc1dc9ee
SUMMARY:Seniorengottesdienst
DESCRIPTION:Pfarrer Philipp Ostertag
LOCATION:Bahnhofstraße 2\, 79774 Albbruck\, Deutschland
DTSTART:20250124T093000Z
DTEND:20250124T100000Z
DTSTAMP:20231108T084758Z
ORGANIZER;CN=Evangelische Kirchengemeinde Albbruck-Görwihl:MAILTO:info@evk
 g-albbruck.de
GEO:47.591706;8.131475
X-APPLE-STRUCTURED-LOCATION;VALUE=URI;X-ADDRESS=Bahnhofstraße 2\, 79774 Al
 bbruck\, Deutschland;X-APPLE-RADIUS=72;X-TITLE=ASB Seniorenzentrum Albtal\
 , Albbruck:47.591706;8.131475
END:VEVENT
END:VCALENDAR