BEGIN:VCALENDAR
VERSION:2.0
PRODID:Events Booking
BEGIN:VEVENT
UID:69e77dbaa3247
SUMMARY:Seniorengottesdienst
DESCRIPTION:Diakon i. R. Harald Gräf
LOCATION:Bahnhofstraße 2\, 79774 Albbruck\, Deutschland
DTSTART:20250321T093000Z
DTEND:20250321T100000Z
DTSTAMP:20231108T084758Z
ORGANIZER;CN=Evangelische Kirchengemeinde Albbruck-Görwihl:MAILTO:info@evk
 g-albbruck.de
GEO:47.591706;8.131475
X-APPLE-STRUCTURED-LOCATION;VALUE=URI;X-ADDRESS=Bahnhofstraße 2\, 79774 Al
 bbruck\, Deutschland;X-APPLE-RADIUS=72;X-TITLE=ASB Seniorenzentrum Albtal\
 , Albbruck:47.591706;8.131475
END:VEVENT
END:VCALENDAR