BEGIN:VCALENDAR
VERSION:2.0
PRODID:Events Booking
BEGIN:VEVENT
UID:69e7428f1c668
SUMMARY:Chorkonzert Gesangverein Albbruck\, Gemischter Chor Aichen und Gesa
 ngverein Hänner
DESCRIPTION:
LOCATION:Schulstraße 11\, 79774 Albbruck\, Deutschland
DTSTART:20250406T150000Z
DTEND:20250406T163000Z
DTSTAMP:20250306T091307Z
ORGANIZER;CN=Evangelische Kirchengemeinde Albbruck-Görwihl:MAILTO:info@evk
 g-albbruck.de
GEO:47.594041;8.131956
X-APPLE-STRUCTURED-LOCATION;VALUE=URI;X-ADDRESS=Schulstraße 11\, 79774 Alb
 bruck\, Deutschland;X-APPLE-RADIUS=72;X-TITLE=Evangelische Christuskirche 
 Albbruck:47.594041;8.131956
END:VEVENT
END:VCALENDAR