BEGIN:VCALENDAR
VERSION:2.0
PRODID:Events Booking
BEGIN:VEVENT
UID:69e9e35da94eb
SUMMARY:Gospelchor Lichtblick
DESCRIPTION:
DTSTART:20251201T180000Z
DTEND:20251201T190000Z
DTSTAMP:20250306T092442Z
ORGANIZER;CN=Evangelische Kirchengemeinde Albbruck-Görwihl:MAILTO:info@evk
 g-albbruck.de
END:VEVENT
END:VCALENDAR