BEGIN:VCALENDAR
VERSION:2.0
PRODID:Events Booking
BEGIN:VEVENT
UID:69e77db337c29
SUMMARY:Seniorengottesdienst Waldshut
DESCRIPTION:
LOCATION:St.Blasier Str. 2\, 79761 Waldshut-Tiengen\, Deutschland
DTSTART:20250408T080000Z
DTSTAMP:20250318T090124Z
ORGANIZER;CN=Evangelische Kirchengemeinde Albbruck-Görwihl:MAILTO:info@evk
 g-albbruck.de
GEO:47.624173;8.209021
X-APPLE-STRUCTURED-LOCATION;VALUE=URI;X-ADDRESS=St.Blasier Str. 2\, 79761 W
 aldshut-Tiengen\, Deutschland;X-APPLE-RADIUS=72;X-TITLE=Matthias-Claudius-
 Haus\, Waldshut:47.624173;8.209021
END:VEVENT
END:VCALENDAR