BEGIN:VCALENDAR
VERSION:2.0
PRODID:Events Booking
BEGIN:VEVENT
UID:69e77db28bf36
SUMMARY:Seniorengottesdienst Waldshut
DESCRIPTION:
DTSTART:20250415T080000Z
DTSTAMP:20250318T091427Z
ORGANIZER;CN=Evangelische Kirchengemeinde Albbruck-Görwihl:MAILTO:info@evk
 g-albbruck.de
END:VEVENT
END:VCALENDAR