BEGIN:VCALENDAR
VERSION:2.0
PRODID:Events Booking
BEGIN:VEVENT
UID:69e77db276dee
SUMMARY:Seniorengottesdienst Waldshut
DESCRIPTION:
DTSTART:20250422T080000Z
DTSTAMP:20250318T092840Z
ORGANIZER;CN=Evangelische Kirchengemeinde Albbruck-Görwihl:MAILTO:info@evk
 g-albbruck.de
END:VEVENT
END:VCALENDAR