BEGIN:VCALENDAR
VERSION:2.0
PRODID:Events Booking
BEGIN:VEVENT
UID:69e76a5d355b0
SUMMARY:Gottesdienst Laufenburg
DESCRIPTION:
LOCATION:Säckinger Str. 29\, 79725 Laufenburg\, Deutschland
DTSTART:20250817T170000Z
DTEND:20250817T180000Z
DTSTAMP:20250703T075341Z
ORGANIZER;CN=Evangelische Kirchengemeinde Albbruck-Görwihl:MAILTO:info@evk
 g-albbruck.de
GEO:47.562588;8.056476
X-APPLE-STRUCTURED-LOCATION;VALUE=URI;X-ADDRESS=Säckinger Str. 29\, 79725 
 Laufenburg\, Deutschland;X-APPLE-RADIUS=72;X-TITLE=Evangelische Versöhnun
 gskirche Laufenburg:47.562588;8.056476
END:VEVENT
END:VCALENDAR