BEGIN:VCALENDAR
VERSION:2.0
PRODID:Events Booking
BEGIN:VEVENT
UID:69e76b707f8c9
SUMMARY:Ökumenischer Gottesdienst zum Volkstrauertag 2025
DESCRIPTION:
LOCATION:Einungsstraße 44\, 79774 Albbruck\, Deutschland
DTSTART:20251116T094500Z
DTEND:20251116T104500Z
DTSTAMP:20250918T073702Z
ORGANIZER;CN=Evangelische Kirchengemeinde Albbruck-Görwihl:MAILTO:info@evk
 g-albbruck.de
GEO:47.623834;8.134327
X-APPLE-STRUCTURED-LOCATION;VALUE=URI;X-ADDRESS=Einungsstraße 44\, 79774 A
 lbbruck\, Deutschland;X-APPLE-RADIUS=72;X-TITLE=Katholische Kirche Heilig 
 Kreuz Birndorf:47.623834;8.134327
END:VEVENT
END:VCALENDAR